BEGIN:VCALENDAR
VERSION:2.0
PRODID:-//Plone.org//NONSGML plone.app.event//EN
X-WR-TIMEZONE:Europe/Rome
BEGIN:VEVENT
SUMMARY:Sustainable Design and Manufacturing 2017
DTSTART;VALUE=DATE:20170426
DTEND;VALUE=DATE:20170429
DTSTAMP;VALUE=DATE-TIME:20260421T154939Z
UID:c1a1fb8aa0514867bc2bb8cebf492a4c@industrial-engineering.unibo.it
CREATED;VALUE=DATE-TIME:20161201T060619Z
LAST-MODIFIED;VALUE=DATE-TIME:20161201T060634Z
URL:https://industrial-engineering.unibo.it/en/events/sustainable-design-a
 nd-manufacturing-2017
END:VEVENT
END:VCALENDAR
